BEGIN:VCALENDAR
VERSION:2.0
PRODID:-//wp-events-plugin.com//7.2.3.1//EN
TZID:Europe/Berlin
X-WR-TIMEZONE:Europe/Berlin
BEGIN:VEVENT
UID:110@ek-ef.de
DTSTART;TZID=Europe/Berlin:20171007T123000
DTEND;TZID=Europe/Berlin:20171007T140000
DTSTAMP:20171004T174515Z
URL:https://www.ek-ef.de/events/workshop-blasinstrumente/
SUMMARY:Workshop Blech-Blasinstrumente
DESCRIPTION:Zum Ausprobieren der Instrumente und zum Kennenlernen bieten wi
 r am Freckenhorster Herbst einen Workshop an.\nHerzlich willkommen ist jed
 er\, der ein Blasinstrument in der Gemeinschaft spielen möchte\, ob jung 
 oder alt.
CATEGORIES:sonstige in Freckenhorst,sonstige Veranstaltung
LOCATION:Pauluskirche\, Paulusplatz 1\, Freckenhorst\, 48231\, Deutschland
GEO:51.92478;7.96857
X-APPLE-STRUCTURED-LOCATION;VALUE=URI;X-ADDRESS=Paulusplatz 1\, Freckenhors
 t\, 48231\, Deutschland;X-APPLE-RADIUS=100;X-TITLE=Pauluskirche:geo:51.924
 78,7.96857
END:VEVENT
BEGIN:VTIMEZONE
TZID:Europe/Berlin
X-LIC-LOCATION:Europe/Berlin
BEGIN:DAYLIGHT
DTSTART:20170326T030000
TZOFFSETFROM:+0100
TZOFFSETTO:+0200
TZNAME:CEST
END:DAYLIGHT
END:VTIMEZONE
END:VCALENDAR