BEGIN:VCALENDAR
VERSION:2.0
PRODID:-//wp-events-plugin.com//7.2.3.1//EN
TZID:Europe/Berlin
X-WR-TIMEZONE:Europe/Berlin
BEGIN:VEVENT
UID:269@ek-ef.de
DTSTART;TZID=Europe/Berlin:20211112T193000
DTEND;TZID=Europe/Berlin:20211112T220000
DTSTAMP:20211103T053119Z
URL:https://www.ek-ef.de/events/pauluskino-zeigt-chocolat/
SUMMARY:Pauluskino zeigt "Chocolat"
DESCRIPTION:Ausgerechnet zur Fastenzeit kommt die hübsche Vianne mit ihrer
  Tochter in ein französisches Provinznest\, um dort eine exquisite Chocol
 aterie zu eröffnen. Mit ihrem Charme und ihrer Herzlichkeit gelingt es ih
 r schnell\, einige Kunden mit ihren Leckereien zu begeistern. Doch Vianne 
 ist offensichtlich ein Freigeist und das missfällt vor allem dem Bürgerm
 eister des Ortes. Der erweist sich als wahrer Moralapostel und sieht in Vi
 anne das personifizierte Böse. Als sich die Schöne dann auch noch mit ei
 nem Migranten einlässt\, ist für den Bürgermeister der Bogen überspann
 t...\n\nWir freuen uns\, wieder die Türen unseres Pauluskinos für Sie ö
 ffnen können. Wir zeigen den Film „Chocolat“. Auch wenn er schon etwa
 s älter ist\, so hat er dennoch seinen Charme nicht verloren. Wenn die Au
 flagen es zulassen\, wird auch unsere Snackbar geöffnet sein und Sie mit 
 Getränken\, Eis\, Popcorn und dieses Mal selbstverständlich auch mit Sch
 okolade versorgen. Bitte weisen Sie zum Eintritt Ihre Impfung\, Ihre Genes
 ung oder Ihren Test nach.\n\nWir freuen uns auf Sie!\nDer Vorstand des Fö
 rderkreises der ev. Kirchengemeinde in Freckenhorst und Hoetmar\n\nEinlass
  ist um 19:00 Uhr\,\nBeginn um 19:30 Uhr
ATTACH;FMTTYPE=image/jpeg:https://www.ek-ef.de/wp-content/uploads/2021/11/
 Chocolat-e1635917024373.png
CATEGORIES:Pauluskino
LOCATION:Gemeindehaus Freckenhorst\, Paulusplatz 6\, Warendorf\, 48231\, De
 utschland
GEO:51.9244222;7.96858229999998
X-APPLE-STRUCTURED-LOCATION;VALUE=URI;X-ADDRESS=Paulusplatz 6\, Warendorf\,
  48231\, Deutschland;X-APPLE-RADIUS=100;X-TITLE=Gemeindehaus Freckenhorst:
 geo:51.9244222,7.96858229999998
END:VEVENT
BEGIN:VTIMEZONE
TZID:Europe/Berlin
X-LIC-LOCATION:Europe/Berlin
BEGIN:STANDARD
DTSTART:20211031T020000
TZOFFSETFROM:+0200
TZOFFSETTO:+0100
TZNAME:CET
END:STANDARD
END:VTIMEZONE
END:VCALENDAR