BEGIN:VCALENDAR
VERSION:2.0
PRODID:-//wp-events-plugin.com//7.2.3.1//EN
TZID:Europe/Berlin
X-WR-TIMEZONE:Europe/Berlin
BEGIN:VEVENT
UID:308@ek-ef.de
DTSTART;TZID=Europe/Berlin:20231103T193000
DTEND;TZID=Europe/Berlin:20231103T213000
DTSTAMP:20231101T071323Z
URL:https://www.ek-ef.de/events/pauluskino-3/
SUMMARY:Pauluskino
DESCRIPTION:„Igor lebt allein und jobbt als Fahrradkurier für Biogemüse
 . Ein paar mehr Kontakte zu anderen Menschen wären schön\, aber ansonste
 n ist der körperlich behinderte Hobby-Philosoph nicht unglücklich. Louis
  hingegen ist ein 24/7-Unternehmer\, ein Workaholic\, der vor lauter Arbei
 t in seiner Bestattungsfirma die Lebensfreude vergessen hat. Als er Igor a
 uf seinem Fahrrad anfährt\, ist ihm das doppelt peinlich: zum einen wegen
  seiner Unachtsamkeit\, zum anderen\, weil er offensichtlich einen Mensche
 n mit Behinderung verletzt hat. Ein Unfall mit überraschenden Folgen\, de
 nn Igor hat sich in den Kopf gesetzt\, dass Louis ein perfekter neuer Freu
 nd für ihn wäre … und Igor kann sehr hartnäckig sein. So kommt es\, d
 ass Louis und Igor zu einer abenteuerlichen Reise im Leichenwagen aufbrech
 en\, die ihr Leben ordentlich auf den Kopf stellt.\n\nGLÜCK AUF EINER SKA
 LA VON EINS BIS ZEHN erzählt mit viel Humor von einer außergewöhnlichen
  Freundschaft\, die mit Vorurteilen gründlich aufräumt\, und vor allem e
 ines feiert: das Leben an sich. Eindeutig eine Zehn fürs Kinopublikum!“
 \n(https://www.x-verleih.de/filme/glueck-auf-einer-skala-von-1-bis-10/)\nE
 intritt frei!\n- Snacks und Getränke zu fairen Preisen -\nDer Förderkrei
 s der evangelischen Kirchengemeinde in Freckenhorst und Hoetmar freut sich
  auf Ihr Kommen!\n&nbsp\;
ATTACH;FMTTYPE=image/jpeg:https://www.ek-ef.de/wp-content/uploads/2023/11/
 Pauluskino-Nov-2023-e1698822603437.png
CATEGORIES:Pauluskino,sonstige in Freckenhorst,sonstige Veranstaltung
LOCATION:Gemeindehaus Freckenhorst\, Paulusplatz 6\, Warendorf\, 48231\, De
 utschland
GEO:51.9244222;7.96858229999998
X-APPLE-STRUCTURED-LOCATION;VALUE=URI;X-ADDRESS=Paulusplatz 6\, Warendorf\,
  48231\, Deutschland;X-APPLE-RADIUS=100;X-TITLE=Gemeindehaus Freckenhorst:
 geo:51.9244222,7.96858229999998
END:VEVENT
BEGIN:VTIMEZONE
TZID:Europe/Berlin
X-LIC-LOCATION:Europe/Berlin
BEGIN:STANDARD
DTSTART:20231029T020000
TZOFFSETFROM:+0200
TZOFFSETTO:+0100
TZNAME:CET
END:STANDARD
END:VTIMEZONE
END:VCALENDAR