BEGIN:VCALENDAR
VERSION:2.0
PRODID:-//wp-events-plugin.com//7.2.3.1//EN
TZID:Europe/Berlin
X-WR-TIMEZONE:Europe/Berlin
BEGIN:VEVENT
UID:293@ek-ef.de
DTSTART;TZID=Europe/Berlin:20221211T170000
DTEND;TZID=Europe/Berlin:20221211T190000
DTSTAMP:20221206T164406Z
URL:https://www.ek-ef.de/events/konzert-schmarowotsnik/
SUMMARY:Konzert "Schmarowotsnik"
DESCRIPTION:Neue jiddische Lieder und Klezmer Musik werden am (Sonntag) 11.
  Dezember um 17.00 Uhr in der Johanneskirchezu hören sein. Auf Einladung 
 &nbsp\;unserer Kirchengemeinde gastiert das Kieler Ensemble „Schmarowots
 nik“\, bestehend aus Christine von Bülow (Oboe\, Englischhorn und Gesan
 g)und Martin Quetsche(Akkordeon und Gesang). Die beiden spielen seit über
  20 Jahren Jiddische Musik und haben sich auch intensiv mit jiddischer Spr
 ache und Literatur beschäftigt. So entstand im Jahr 2010 ein Bühnenprogr
 amm für das Polnische Theater Kiel und das Landestheater Schleswig-Holste
 in. Im Jahr 2015 wurde „Schmarowotsnik“ zum Wettbewerb für neue Jiddi
 sche Lieder nach Mexico City eingeladen und gewannen dort den ersten Preis
  für eine selbstgetextete Ballade.\n\nChristine von Bülow &nbsp\;und Mar
 tin Quetsche spielen Klezmer Musik und Jiddische Lieder in immer wieder ü
 berraschender Besetzung: Mal kommt zum Akkordeon eine schwatzhafte Oboe\, 
 mal begleitet nur das Englischhorn den Sologesang. &nbsp\;„Ohne Mikropho
 ne\, ohne Noten und Textzettel schmalzen und stampfen sich die beiden Kiel
 er durch ihr buntscheckiges Musikprogramm“\, heißt es in der Pressemitt
 eilung der Kirchengemeinde. Die unterhaltsame Moderation mache die jiddisc
 hen Texte für die Konzertbesucher verständlich. Die Texte\, die die beid
 en selbst vertonen\, seien besondere Fundstücke\, die jedem ins Herz hine
 in springen. Jedes Instrumentalstück habe seinen ganz eigenen Charakter u
 nd jedes Lied erzähle seine Geschichte. „Das Konzert wird ein kunterbun
 ter Abend\, der das Herz erwärmt und Freude macht“\, verspricht die &nb
 sp\;evangelische Kirchengemeinde.\n\nDer Eintritt ist frei. Um eine Spende
  wird gebeten.\n\nWeitere Infos hier auf der Homepage von "schmarowotsnik"
 .
ATTACH;FMTTYPE=image/jpeg:https://www.ek-ef.de/wp-content/uploads/2022/12/
 Schmarowotsnik_Pressefoto-scaled-e1670344972891.jpg
CATEGORIES:Konzerte,sonstige in Everswinkel,sonstige Veranstaltung
LOCATION:Johanneskirche\, Pattkamp 6\, Everswinkel\, 48351\, Deutschland
GEO:51.929129;7.851425
X-APPLE-STRUCTURED-LOCATION;VALUE=URI;X-ADDRESS=Pattkamp 6\, Everswinkel\, 
 48351\, Deutschland;X-APPLE-RADIUS=100;X-TITLE=Johanneskirche:geo:51.92912
 9,7.851425
END:VEVENT
BEGIN:VTIMEZONE
TZID:Europe/Berlin
X-LIC-LOCATION:Europe/Berlin
BEGIN:STANDARD
DTSTART:20221030T020000
TZOFFSETFROM:+0200
TZOFFSETTO:+0100
TZNAME:CET
END:STANDARD
END:VTIMEZONE
END:VCALENDAR