BEGIN:VCALENDAR
VERSION:2.0
PRODID:-//wp-events-plugin.com//7.2.3.1//EN
TZID:Europe/Berlin
X-WR-TIMEZONE:Europe/Berlin
BEGIN:VEVENT
UID:300@ek-ef.de
DTSTART;TZID=Europe/Berlin:20221226T093000
DTEND;TZID=Europe/Berlin:20221226T101500
DTSTAMP:20221221T090326Z
URL:https://www.ek-ef.de/events/gottesdienst-mit-abendmahl-2/
SUMMARY:Gottesdienst mit Abendmahl
DESCRIPTION:
CATEGORIES:Gottesdienst in Everswinkel,Gottesdienste
LOCATION:Johanneskirche\, Pattkamp 6\, Everswinkel\, 48351\, Deutschland
GEO:51.929129;7.851425
X-APPLE-STRUCTURED-LOCATION;VALUE=URI;X-ADDRESS=Pattkamp 6\, Everswinkel\, 
 48351\, Deutschland;X-APPLE-RADIUS=100;X-TITLE=Johanneskirche:geo:51.92912
 9,7.851425
END:VEVENT
BEGIN:VTIMEZONE
TZID:Europe/Berlin
X-LIC-LOCATION:Europe/Berlin
BEGIN:STANDARD
DTSTART:20221030T020000
TZOFFSETFROM:+0200
TZOFFSETTO:+0100
TZNAME:CET
END:STANDARD
END:VTIMEZONE
END:VCALENDAR