BEGIN:VCALENDAR
VERSION:2.0
PRODID:-//wp-events-plugin.com//7.2.3.1//EN
TZID:Europe/Berlin
X-WR-TIMEZONE:Europe/Berlin
BEGIN:VEVENT
UID:267@ek-ef.de
DTSTART;TZID=Europe/Berlin:20211023T190000
DTEND;TZID=Europe/Berlin:20211023T210000
DTSTAMP:20211015T110033Z
URL:https://www.ek-ef.de/events/fragile-matt-irish-folk-on-your-doorstep/
SUMMARY:Fragile Matt Irish Folk ... on your doorstep!
DESCRIPTION:Erfrischend\, gefühlvoll\, fröhlich\, lebendig und am Besten 
 live. Mehrstimmiger Gesang umrahmt von fetzigen irischen und schottischen 
 Tunes. Die Band Fragile Matt\, gegründet in Doolin\, Irland\, in 2008 von
  dem Iren David Hutchinson\, ist mit ihrer Musik in Deutschland\, Holland 
 und Irland unterwegs.\n\nDoolin 2008... draußen stürmt's\, drinnen offen
 er Kamin\, gemütlich\, Session läuft\, Musiker alt und jung. MATT (Matth
 ew) 82\, in der Ecke\, Quetsche neben ihm\, Spoons klackern rhythmisch auf
  seinem Knie. Großes\, zahnloses Lächeln für die Ladies\, ein Funkeln i
 n seinen Augen\, ein aufmerksames Ohr. Auf dem alten\, abgegriffenen Akkor
 deonkoffer\, über seinem Namen\, der Hinweis "FRAGILE". Fragile Matt wurd
 e geboren. \n\nDie Bandmitglieder:\n\nDavid Hutchinson (IRL): Gesang\, Bou
 zouki\, Banjo. Bekannt seit Jahren in der Session Szene. Fragt man ihn nac
 h seiner Herkunft\, sagt er manchmal Kilrickle (das liegt irgendwo in Irla
 nd)\, mal Solingen (irgendwo im Bergischen Land). Beides ist wahr. Gemeins
 am haben diese Orte\, dass niemand sie kennt…\n\nAndrea Zielke (AUS): Ge
 sang\, Gitarre. In Viererbesetzung: Dudelsäckchen\, Whistles\, Mandoline.
  Kleiner Power-Floh auf der Bühne. Spielte viele Jahre mit der Folkband 
 „Catalpa“.\n\nKatja Winterberg (D): Bodhrán. Trommelt Tag und Nacht w
 enn man sie nur lässt. Spielt außerdem in der Wuppertaler StreetPercussi
 on-Band „Slap Attack“.\n\nDie Veranstaltung findet unter der 3G-Regel 
 statt\, daher bitten wir\, einen entsprechenden Nachweis mitzubringen.\n\n
 Tickets für die Veranstaltung können im Vorfeld entweder\n\n 	online bes
 tellt und an der Abendkasse bezahlt werden\,\n\noder an den Vorverkaufsste
 llen erworben werden:\n\n 	Kieskemper\, Everswinkeler Str. 8\, 48231&nbsp\
 ;Warendorf OT Freckenhorst\n 	Buchhandlung\,Schreib-und Spielwaren Föllen
 \, Vitusstr. 4\, 48351 Everswinkel&nbsp\;\n\n
ATTACH;FMTTYPE=image/jpeg:https://www.ek-ef.de/wp-content/uploads/2021/09/
 fragile_matt_band_2_high_resolution-scaled.jpg
CATEGORIES:Konzerte
LOCATION:Pauluskirche\, Paulusplatz 1\, Freckenhorst\, 48231\, Deutschland
GEO:51.92478;7.96857
X-APPLE-STRUCTURED-LOCATION;VALUE=URI;X-ADDRESS=Paulusplatz 1\, Freckenhors
 t\, 48231\, Deutschland;X-APPLE-RADIUS=100;X-TITLE=Pauluskirche:geo:51.924
 78,7.96857
END:VEVENT
BEGIN:VTIMEZONE
TZID:Europe/Berlin
X-LIC-LOCATION:Europe/Berlin
BEGIN:DAYLIGHT
DTSTART:20210328T030000
TZOFFSETFROM:+0100
TZOFFSETTO:+0200
TZNAME:CEST
END:DAYLIGHT
END:VTIMEZONE
END:VCALENDAR