BEGIN:VCALENDAR
VERSION:2.0
PRODID:-//wp-events-plugin.com//7.2.3.1//EN
TZID:Europe/Berlin
X-WR-TIMEZONE:Europe/Berlin
BEGIN:VEVENT
UID:185@ek-ef.de
DTSTART;TZID=Europe/Berlin:20191027T180000
DTEND;TZID=Europe/Berlin:20191027T190000
DTSTAMP:20191021T170140Z
URL:https://www.ek-ef.de/events/der-andere-gottesdienst/
SUMMARY:Der "andere" Gottesdienst
DESCRIPTION:
ATTACH;FMTTYPE=image/jpeg:https://www.ek-ef.de/wp-content/uploads/2019/10/
 GoDiMond.png
CATEGORIES:Gottesdienst in Freckenhorst,Gottesdienste
LOCATION:Pauluskirche\, Paulusplatz 1\, Freckenhorst\, 48231\, Deutschland
GEO:51.92478;7.96857
X-APPLE-STRUCTURED-LOCATION;VALUE=URI;X-ADDRESS=Paulusplatz 1\, Freckenhors
 t\, 48231\, Deutschland;X-APPLE-RADIUS=100;X-TITLE=Pauluskirche:geo:51.924
 78,7.96857
END:VEVENT
BEGIN:VTIMEZONE
TZID:Europe/Berlin
X-LIC-LOCATION:Europe/Berlin
BEGIN:STANDARD
DTSTART:20191027T020000
TZOFFSETFROM:+0200
TZOFFSETTO:+0100
TZNAME:CET
END:STANDARD
END:VTIMEZONE
END:VCALENDAR